BEGIN:VCALENDAR
VERSION:2.0
PRODID:SchoolNow
CALSCALE:GREGORIAN
BEGIN:VEVENT
UID:e8e03036-c04a-11f0-a822-0a58a9feac02
DTSTAMP:20251216T214543Z
SUMMARY:SSC Meeting #2
URL;VALUE=URI:https://www.lahabraschools.org/walnut/calendar/8792850/ssc-me
 eting-2
DTSTART:20251209T224500Z
DTEND:20251209T234500Z
END:VEVENT
END:VCALENDAR
