BEGIN:VCALENDAR
VERSION:2.0
PRODID:SchoolNow
CALSCALE:GREGORIAN
BEGIN:VEVENT
UID:e8e0314e-c04a-11f0-b462-0a58a9feac02
DTSTAMP:20251216T214543Z
SUMMARY:ELAC Meeting #2
URL;VALUE=URI:https://www.lahabraschools.org/walnut/calendar/8792851/elac-m
 eeting-2
DTSTART:20251203T161500Z
DTEND:20251203T171500Z
END:VEVENT
END:VCALENDAR
