BEGIN:VCALENDAR
VERSION:2.0
PRODID:SchoolNow
CALSCALE:GREGORIAN
BEGIN:VEVENT
UID:e8e03428-c04a-11f0-8199-0a58a9feac02
DTSTAMP:20251216T214543Z
SUMMARY:Mobile Food Pantry - Walnut
URL;VALUE=URI:https://www.lahabraschools.org/walnut/calendar/8792852/mobile
 -food-pantry-walnut
DTSTART:20251121T174500Z
DTEND:20251121T184500Z
END:VEVENT
END:VCALENDAR
