BEGIN:VCALENDAR
VERSION:2.0
PRODID:SchoolNow
CALSCALE:GREGORIAN
BEGIN:VEVENT
UID:e8e03676-c04a-11f0-a150-0a58a9feac02
DTSTAMP:20251216T214543Z
SUMMARY:Mobile Food Pantry - Delivery  - 8:30 am - 9:15 am
URL;VALUE=URI:https://www.lahabraschools.org/walnut/calendar/8792853/mobile
 -food-pantry-delivery-8-30-am-9-15-am
DTSTART:20251205T174500Z
DTEND:20251205T184500Z
END:VEVENT
END:VCALENDAR
