BEGIN:VCALENDAR
VERSION:2.0
PRODID:SchoolNow
CALSCALE:GREGORIAN
BEGIN:VEVENT
UID:a9d69fb6-c512-11f0-ac69-0a58a9feac02
DTSTAMP:20251216T214543Z
SUMMARY:STEAM Showcase
URL;VALUE=URI:https://www.lahabraschools.org/walnut/calendar/8803138/steam-
 showcase
DTSTART:20251219T171500Z
DTEND:20251219T180000Z
END:VEVENT
END:VCALENDAR
