BEGIN:VCALENDAR
VERSION:2.0
PRODID:SchoolNow
CALSCALE:GREGORIAN
BEGIN:VEVENT
UID:0db4593a-d1d2-11f0-8e45-0affd905178f
DTSTAMP:20251216T214543Z
SUMMARY:Mobile Food Pantry - Delivery  -
URL;VALUE=URI:https://www.lahabraschools.org/walnut/calendar/8818209/mobile
 -food-pantry-delivery
DTSTART:20260116T174500Z
DTEND:20260116T184500Z
END:VEVENT
END:VCALENDAR
