BEGIN:VCALENDAR
VERSION:2.0
PRODID:SchoolNow
CALSCALE:GREGORIAN
BEGIN:VEVENT
UID:cd164340-4250-11f0-bc96-0affd1a02dc7
DTSTAMP:20260419T125007Z
SUMMARY:Food Distribution 10:30-11:30 AM
URL;VALUE=URI:https://www.lahabraschools.org/washington/calendar/8258032/fo
 od-distribution-10-30-11-30-am
DTSTART:20260128T174500Z
DTEND:20260128T184500Z
END:VEVENT
END:VCALENDAR
