BEGIN:VCALENDAR
VERSION:2.0
PRODID:SchoolNow
CALSCALE:GREGORIAN
BEGIN:VEVENT
UID:cd16441c-4250-11f0-9f49-0affd1a02dc7
DTSTAMP:20260419T125007Z
SUMMARY:Food Distribution
URL;VALUE=URI:https://www.lahabraschools.org/washington/calendar/8258033/fo
 od-distribution
DTSTART:20260225T174500Z
DTEND:20260225T184500Z
END:VEVENT
END:VCALENDAR
