BEGIN:VCALENDAR
VERSION:2.0
PRODID:SchoolNow
CALSCALE:GREGORIAN
BEGIN:VEVENT
UID:cd1645f2-4250-11f0-86d8-0affd1a02dc7
DTSTAMP:20260419T125007Z
SUMMARY:Food Distribution 9:45
URL;VALUE=URI:https://www.lahabraschools.org/washington/calendar/8258035/fo
 od-distribution-9-45
DTSTART:20260422T164500Z
DTEND:20260422T174500Z
END:VEVENT
END:VCALENDAR
