BEGIN:VCALENDAR
VERSION:2.0
PRODID:SchoolNow
CALSCALE:GREGORIAN
BEGIN:VEVENT
UID:cd1646d8-4250-11f0-be55-0affd1a02dc7
DTSTAMP:20260419T125007Z
SUMMARY:Food Distribution 9:45
URL;VALUE=URI:https://www.lahabraschools.org/washington/calendar/8258036/fo
 od-distribution-9-45
DTSTART:20260527T164500Z
DTEND:20260527T174500Z
END:VEVENT
END:VCALENDAR
