BEGIN:VCALENDAR
VERSION:2.0
PRODID:SchoolNow
CALSCALE:GREGORIAN
BEGIN:VEVENT
UID:cd164c28-4250-11f0-b504-0affd1a02dc7
DTSTAMP:20260419T125007Z
SUMMARY:Winter Break - No School
URL;VALUE=URI:https://www.lahabraschools.org/washington/calendar/8258042/wi
 nter-break-no-school
DTSTART;VALUE=DATE:20251222
DTEND;VALUE=DATE:20260103
END:VEVENT
END:VCALENDAR
