BEGIN:VCALENDAR
VERSION:2.0
PRODID:SchoolNow
CALSCALE:GREGORIAN
BEGIN:VEVENT
UID:cd164d04-4250-11f0-96c1-0affd1a02dc7
DTSTAMP:20260419T125007Z
SUMMARY:Professional Development Day - No School for Students
URL;VALUE=URI:https://www.lahabraschools.org/washington/calendar/8258043/pr
 ofessional-development-day-no-school-for-students
DTSTART;VALUE=DATE:20260105
DTEND;VALUE=DATE:20260106
END:VEVENT
END:VCALENDAR
