BEGIN:VCALENDAR
VERSION:2.0
PRODID:SchoolNow
CALSCALE:GREGORIAN
BEGIN:VEVENT
UID:cd164e12-4250-11f0-8974-0affd1a02dc7
DTSTAMP:20260419T125007Z
SUMMARY:Martin Luther King Holiday - No School
URL;VALUE=URI:https://www.lahabraschools.org/washington/calendar/8258044/ma
 rtin-luther-king-holiday-no-school
DTSTART;VALUE=DATE:20260119
DTEND;VALUE=DATE:20260120
END:VEVENT
END:VCALENDAR
