BEGIN:VCALENDAR
VERSION:2.0
PRODID:SchoolNow
CALSCALE:GREGORIAN
BEGIN:VEVENT
UID:cd164ef8-4250-11f0-adcd-0affd1a02dc7
DTSTAMP:20260419T125007Z
SUMMARY:Report Card Prep- Early Release 1:02PM
URL;VALUE=URI:https://www.lahabraschools.org/washington/calendar/8258045/re
 port-card-prep-early-release-1-02pm
DTSTART;VALUE=DATE:20260130
DTEND;VALUE=DATE:20260131
END:VEVENT
END:VCALENDAR
