BEGIN:VCALENDAR
VERSION:2.0
PRODID:SchoolNow
CALSCALE:GREGORIAN
BEGIN:VEVENT
UID:cd164fde-4250-11f0-afdf-0affd1a02dc7
DTSTAMP:20260419T125007Z
SUMMARY:Parent Teacher Conferences - Early Release 1:02PM
URL;VALUE=URI:https://www.lahabraschools.org/washington/calendar/8258046/pa
 rent-teacher-conferences-early-release-1-02pm
DTSTART;VALUE=DATE:20260202
DTEND;VALUE=DATE:20260207
END:VEVENT
END:VCALENDAR
