BEGIN:VCALENDAR
VERSION:2.0
PRODID:SchoolNow
CALSCALE:GREGORIAN
BEGIN:VEVENT
UID:cd1650c4-4250-11f0-a97d-0affd1a02dc7
DTSTAMP:20260419T125007Z
SUMMARY:Lincoln's Birthday Holiday - No School
URL;VALUE=URI:https://www.lahabraschools.org/washington/calendar/8258047/li
 ncolns-birthday-holiday-no-school
DTSTART;VALUE=DATE:20260209
DTEND;VALUE=DATE:20260210
END:VEVENT
END:VCALENDAR
