BEGIN:VCALENDAR
VERSION:2.0
PRODID:SchoolNow
CALSCALE:GREGORIAN
BEGIN:VEVENT
UID:cd1651aa-4250-11f0-8a9b-0affd1a02dc7
DTSTAMP:20260419T125007Z
SUMMARY:Washington's Birthday/President's Day Holiday - No School
URL;VALUE=URI:https://www.lahabraschools.org/washington/calendar/8258048/wa
 shingtons-birthday-presidents-day-holiday-no-school
DTSTART;VALUE=DATE:20260216
DTEND;VALUE=DATE:20260217
END:VEVENT
END:VCALENDAR
