BEGIN:VCALENDAR
VERSION:2.0
PRODID:SchoolNow
CALSCALE:GREGORIAN
BEGIN:VEVENT
UID:cd165362-4250-11f0-8d66-0affd1a02dc7
DTSTAMP:20260419T125007Z
SUMMARY:Spring Break - No School
URL;VALUE=URI:https://www.lahabraschools.org/washington/calendar/8258050/sp
 ring-break-no-school
DTSTART;VALUE=DATE:20260316
DTEND;VALUE=DATE:20260321
END:VEVENT
END:VCALENDAR
