BEGIN:VCALENDAR
VERSION:2.0
PRODID:SchoolNow
CALSCALE:GREGORIAN
BEGIN:VEVENT
UID:cd165448-4250-11f0-8061-0affd1a02dc7
DTSTAMP:20260419T125007Z
SUMMARY:Professional Development - No School for Students
URL;VALUE=URI:https://www.lahabraschools.org/washington/calendar/8258051/pr
 ofessional-development-no-school-for-students
DTSTART;VALUE=DATE:20260403
DTEND;VALUE=DATE:20260404
END:VEVENT
END:VCALENDAR
