BEGIN:VCALENDAR
VERSION:2.0
PRODID:SchoolNow
CALSCALE:GREGORIAN
BEGIN:VEVENT
UID:cd165524-4250-11f0-b706-0affd1a02dc7
DTSTAMP:20260419T125007Z
SUMMARY:Report Card Prep - Early Release 1:02PM
URL;VALUE=URI:https://www.lahabraschools.org/washington/calendar/8258052/re
 port-card-prep-early-release-1-02pm
DTSTART:20260508T073000Z
DTEND:20260508T083000Z
END:VEVENT
END:VCALENDAR
