BEGIN:VCALENDAR
VERSION:2.0
PRODID:SchoolNow
CALSCALE:GREGORIAN
BEGIN:VEVENT
UID:cd165600-4250-11f0-b0ad-0affd1a02dc7
DTSTAMP:20260419T125007Z
SUMMARY:Memorial Day Holiday - No School
URL;VALUE=URI:https://www.lahabraschools.org/washington/calendar/8258053/me
 morial-day-holiday-no-school
DTSTART;VALUE=DATE:20260525
DTEND;VALUE=DATE:20260526
END:VEVENT
END:VCALENDAR
