BEGIN:VCALENDAR
VERSION:2.0
PRODID:SchoolNow
CALSCALE:GREGORIAN
BEGIN:VEVENT
UID:cd1656dc-4250-11f0-a479-0affd1a02dc7
DTSTAMP:20260419T125007Z
SUMMARY:Last Day of School for 7th Grade - 3:02 PM Release Time
URL;VALUE=URI:https://www.lahabraschools.org/washington/calendar/8258054/la
 st-day-of-school-for-7th-grade-3-02-pm-release-time
DTSTART;VALUE=DATE:20260528
DTEND;VALUE=DATE:20260529
END:VEVENT
END:VCALENDAR
