BEGIN:VCALENDAR
VERSION:2.0
PRODID:SchoolNow
CALSCALE:GREGORIAN
BEGIN:VEVENT
UID:cd1657b8-4250-11f0-b076-0affd1a02dc7
DTSTAMP:20260419T125007Z
SUMMARY:8th Grade Promotion - 8:30AM
URL;VALUE=URI:https://www.lahabraschools.org/washington/calendar/8258055/8t
 h-grade-promotion-8-30am
DTSTART;VALUE=DATE:20260529
DTEND;VALUE=DATE:20260530
END:VEVENT
END:VCALENDAR
