BEGIN:VCALENDAR
VERSION:2.0
PRODID:SchoolNow
CALSCALE:GREGORIAN
BEGIN:VEVENT
UID:caae3238-4283-11f0-ad8d-0a58a9feac02
DTSTAMP:20260419T125007Z
SUMMARY:Vision and Hearing Screening
URL;VALUE=URI:https://www.lahabraschools.org/washington/calendar/8259341/vi
 sion-and-hearing-screening
DTSTART;VALUE=DATE:20260108
DTEND;VALUE=DATE:20260109
END:VEVENT
END:VCALENDAR
