BEGIN:VCALENDAR
VERSION:2.0
PRODID:SchoolNow
CALSCALE:GREGORIAN
BEGIN:VEVENT
UID:84779630-6f54-11f0-bc3a-0a58a9feac02
DTSTAMP:20260419T125007Z
SUMMARY:PTSA meeting
URL;VALUE=URI:https://www.lahabraschools.org/washington/calendar/8464886/pt
 sa-meeting
DTSTART:20260219T000000Z
DTEND:20260219T010000Z
END:VEVENT
END:VCALENDAR
