BEGIN:VCALENDAR
VERSION:2.0
PRODID:SchoolNow
CALSCALE:GREGORIAN
BEGIN:VEVENT
UID:84779716-6f54-11f0-8e21-0a58a9feac02
DTSTAMP:20260419T125007Z
SUMMARY:PTSA meeting
URL;VALUE=URI:https://www.lahabraschools.org/washington/calendar/8464887/pt
 sa-meeting
DTSTART:20260311T230000Z
DTEND:20260312T000000Z
END:VEVENT
END:VCALENDAR
