BEGIN:VCALENDAR
VERSION:2.0
PRODID:SchoolNow
CALSCALE:GREGORIAN
BEGIN:VEVENT
UID:847797fc-6f54-11f0-9572-0a58a9feac02
DTSTAMP:20260421T072507Z
SUMMARY:PTSA meeting
URL;VALUE=URI:https://www.lahabraschools.org/washington/calendar/8464888/pt
 sa-meeting
DTSTART:20260415T230000Z
DTEND:20260416T000000Z
END:VEVENT
END:VCALENDAR
