BEGIN:VCALENDAR
VERSION:2.0
PRODID:SchoolNow
CALSCALE:GREGORIAN
BEGIN:VEVENT
UID:847798e2-6f54-11f0-a331-0a58a9feac02
DTSTAMP:20260419T125007Z
SUMMARY:PTSA meeting
URL;VALUE=URI:https://www.lahabraschools.org/washington/calendar/8464889/pt
 sa-meeting
DTSTART:20260520T230000Z
DTEND:20260521T000000Z
END:VEVENT
END:VCALENDAR
