BEGIN:VCALENDAR
VERSION:2.0
PRODID:SchoolNow
CALSCALE:GREGORIAN
BEGIN:VEVENT
UID:a8afade8-7e14-11f0-91cc-0a58a9feac02
DTSTAMP:20250820T222604Z
SUMMARY:Back to School Night - Washington Middle School
LOCATION:Washington Middle School
URL;VALUE=URI:https://www.lahabraschools.org/washington/calendar/8526475/ba
 ck-to-school-night-washington-middle-school
DTSTART:20250822T010000Z
DTEND:20250822T020000Z
END:VEVENT
END:VCALENDAR
