BEGIN:VCALENDAR
VERSION:2.0
PRODID:SchoolNow
CALSCALE:GREGORIAN
BEGIN:VEVENT
UID:6278e102-86d7-11f0-bd31-0a58a9feac02
DTSTAMP:20260419T125007Z
SUMMARY:Harmony Project Rehearsal
URL;VALUE=URI:https://www.lahabraschools.org/washington/calendar/8566046/ha
 rmony-project-rehearsal
DTSTART:20260214T163000Z
DTEND:20260214T193000Z
END:VEVENT
END:VCALENDAR
