BEGIN:VCALENDAR
VERSION:2.0
PRODID:SchoolNow
CALSCALE:GREGORIAN
BEGIN:VEVENT
UID:6278e1e8-86d7-11f0-96c7-0a58a9feac02
DTSTAMP:20260419T125007Z
SUMMARY:Harmony Project Rehearsal
URL;VALUE=URI:https://www.lahabraschools.org/washington/calendar/8566047/ha
 rmony-project-rehearsal
DTSTART:20260221T163000Z
DTEND:20260221T193000Z
END:VEVENT
END:VCALENDAR
