BEGIN:VCALENDAR
VERSION:2.0
PRODID:SchoolNow
CALSCALE:GREGORIAN
BEGIN:VEVENT
UID:6278e2c4-86d7-11f0-b754-0a58a9feac02
DTSTAMP:20260419T125007Z
SUMMARY:Harmony Project Rehearsal
URL;VALUE=URI:https://www.lahabraschools.org/washington/calendar/8566048/ha
 rmony-project-rehearsal
DTSTART:20260307T163000Z
DTEND:20260307T193000Z
END:VEVENT
END:VCALENDAR
