BEGIN:VCALENDAR
VERSION:2.0
PRODID:SchoolNow
CALSCALE:GREGORIAN
BEGIN:VEVENT
UID:6278e490-86d7-11f0-95f1-0a58a9feac02
DTSTAMP:20260419T125007Z
SUMMARY:Harmony Project Rehearsal
URL;VALUE=URI:https://www.lahabraschools.org/washington/calendar/8566050/ha
 rmony-project-rehearsal
DTSTART:20260404T153000Z
DTEND:20260404T183000Z
END:VEVENT
END:VCALENDAR
