BEGIN:VCALENDAR
VERSION:2.0
PRODID:SchoolNow
CALSCALE:GREGORIAN
BEGIN:VEVENT
UID:6278e56c-86d7-11f0-9eb3-0a58a9feac02
DTSTAMP:20260419T125007Z
SUMMARY:Harmony Project Rehearsal
URL;VALUE=URI:https://www.lahabraschools.org/washington/calendar/8566051/ha
 rmony-project-rehearsal
DTSTART:20260418T153000Z
DTEND:20260418T183000Z
END:VEVENT
END:VCALENDAR
