BEGIN:VCALENDAR
VERSION:2.0
PRODID:SchoolNow
CALSCALE:GREGORIAN
BEGIN:VEVENT
UID:9acbce96-886e-11f0-b459-0affea765e95
DTSTAMP:20260419T185507Z
SUMMARY:Fall Picture day
URL;VALUE=URI:https://www.lahabraschools.org/washington/calendar/8573483/fa
 ll-picture-day
DTSTART;VALUE=DATE:20260924
DTEND;VALUE=DATE:20260925
END:VEVENT
END:VCALENDAR
