BEGIN:VCALENDAR
VERSION:2.0
PRODID:SchoolNow
CALSCALE:GREGORIAN
BEGIN:VEVENT
UID:7efbf900-ec16-11f0-9b38-0a58a9feac02
DTSTAMP:20260419T125007Z
SUMMARY:PTSA Meeting
LOCATION:Room 201
URL;VALUE=URI:https://www.lahabraschools.org/washington/calendar/8832516/pt
 sa-meeting
DTSTART:20260122T000000Z
DTEND:20260122T010000Z
END:VEVENT
END:VCALENDAR
