BEGIN:VCALENDAR
VERSION:2.0
PRODID:SchoolNow
CALSCALE:GREGORIAN
BEGIN:VEVENT
UID:47126e18-f16e-11f0-a8e3-0affc9bdb4c3
DTSTAMP:20260419T125007Z
SUMMARY:WMS @ LOS NIETOS
URL;VALUE=URI:https://www.lahabraschools.org/washington/calendar/8836110/wm
 s-los-nietos
DTSTART:20260122T233000Z
DTEND:20260123T003000Z
END:VEVENT
END:VCALENDAR
