BEGIN:VCALENDAR
VERSION:2.0
PRODID:SchoolNow
CALSCALE:GREGORIAN
BEGIN:VEVENT
UID:47128fd8-f16e-11f0-acb5-0affc9bdb4c3
DTSTAMP:20260419T125007Z
SUMMARY:WMS @ GRAVES
URL;VALUE=URI:https://www.lahabraschools.org/washington/calendar/8836111/wm
 s-graves
DTSTART:20260115T233000Z
DTEND:20260116T003000Z
END:VEVENT
END:VCALENDAR
