BEGIN:VCALENDAR
VERSION:2.0
PRODID:SchoolNow
CALSCALE:GREGORIAN
BEGIN:VEVENT
UID:47129168-f16e-11f0-b26d-0affc9bdb4c3
DTSTAMP:20260419T125007Z
SUMMARY:IMS @ WMS
URL;VALUE=URI:https://www.lahabraschools.org/washington/calendar/8836112/im
 s-wms
DTSTART:20260120T233000Z
DTEND:20260121T003000Z
END:VEVENT
END:VCALENDAR
