BEGIN:VCALENDAR
VERSION:2.0
PRODID:SchoolNow
CALSCALE:GREGORIAN
BEGIN:VEVENT
UID:471292b2-f16e-11f0-a376-0affc9bdb4c3
DTSTAMP:20260419T125007Z
SUMMARY:GRANADA @ WMS
URL;VALUE=URI:https://www.lahabraschools.org/washington/calendar/8836113/gr
 anada-wms
DTSTART:20260126T233000Z
DTEND:20260127T003000Z
END:VEVENT
END:VCALENDAR
