BEGIN:VCALENDAR
VERSION:2.0
PRODID:SchoolNow
CALSCALE:GREGORIAN
BEGIN:VEVENT
UID:47129410-f16e-11f0-bac0-0affc9bdb4c3
DTSTAMP:20260419T125007Z
SUMMARY:WMS @ IMS
URL;VALUE=URI:https://www.lahabraschools.org/washington/calendar/8836114/wm
 s-ims
DTSTART:20260210T233000Z
DTEND:20260211T003000Z
END:VEVENT
END:VCALENDAR
