BEGIN:VCALENDAR
VERSION:2.0
PRODID:SchoolNow
CALSCALE:GREGORIAN
BEGIN:VEVENT
UID:20622e98-39b7-11f1-ad4c-0affe9e7bdd7
DTSTAMP:20260421T072507Z
SUMMARY:Art Showcase
URL;VALUE=URI:https://www.lahabraschools.org/washington/calendar/8998228/ar
 t-showcase
DTSTART:20260429T150000Z
DTEND:20260430T010000Z
END:VEVENT
END:VCALENDAR
