BEGIN:VCALENDAR
VERSION:2.0
PRODID:SchoolNow
CALSCALE:GREGORIAN
BEGIN:VEVENT
UID:4bb9024c-39bc-11f1-ac95-022bfbe61cab
DTSTAMP:20260419T125007Z
SUMMARY:7th Grade Awards Assembly
URL;VALUE=URI:https://www.lahabraschools.org/washington/calendar/8998245/7t
 h-grade-awards-assembly
DTSTART:20260512T153000Z
DTEND:20260512T163000Z
END:VEVENT
END:VCALENDAR
