BEGIN:VCALENDAR
VERSION:2.0
PRODID:SchoolNow
CALSCALE:GREGORIAN
BEGIN:VEVENT
UID:4bb90652-39bc-11f1-bf69-022bfbe61cab
DTSTAMP:20260419T125007Z
SUMMARY:School Site Council Meeting
URL;VALUE=URI:https://www.lahabraschools.org/washington/calendar/8998246/sc
 hool-site-council-meeting
DTSTART:20260422T221500Z
DTEND:20260422T231500Z
END:VEVENT
END:VCALENDAR
