BEGIN:VCALENDAR
VERSION:2.0
PRODID:SchoolNow
CALSCALE:GREGORIAN
BEGIN:VEVENT
UID:4bb907b0-39bc-11f1-951b-022bfbe61cab
DTSTAMP:20260419T125007Z
SUMMARY:Spring Concert
URL;VALUE=URI:https://www.lahabraschools.org/washington/calendar/8998247/sp
 ring-concert
DTSTART:20260507T010000Z
DTEND:20260507T023000Z
END:VEVENT
END:VCALENDAR
