BEGIN:VCALENDAR
VERSION:2.0
PRODID:SchoolNow
CALSCALE:GREGORIAN
BEGIN:VEVENT
UID:4bb9092c-39bc-11f1-9e4a-022bfbe61cab
DTSTAMP:20260419T125007Z
SUMMARY:Saturday School
URL;VALUE=URI:https://www.lahabraschools.org/washington/calendar/8998248/sa
 turday-school
DTSTART:20260502T150000Z
DTEND:20260502T180000Z
END:VEVENT
END:VCALENDAR
