BEGIN:VCALENDAR
VERSION:2.0
PRODID:SchoolNow
CALSCALE:GREGORIAN
BEGIN:VEVENT
UID:4bb90a94-39bc-11f1-80de-022bfbe61cab
DTSTAMP:20260419T125007Z
SUMMARY:Citrus Fair STEM Exhibition
URL;VALUE=URI:https://www.lahabraschools.org/washington/calendar/8998249/ci
 trus-fair-stem-exhibition
DTSTART:20260502T150000Z
DTEND:20260502T191500Z
END:VEVENT
END:VCALENDAR
