BEGIN:VCALENDAR
VERSION:2.0
PRODID:SchoolNow
CALSCALE:GREGORIAN
BEGIN:VEVENT
UID:4bb90b98-39bc-11f1-8463-022bfbe61cab
DTSTAMP:20260419T125007Z
SUMMARY:Sports Banquet
URL;VALUE=URI:https://www.lahabraschools.org/washington/calendar/8998250/sp
 orts-banquet
DTSTART:20260429T003000Z
DTEND:20260429T023000Z
END:VEVENT
END:VCALENDAR
