BEGIN:VCALENDAR
VERSION:2.0
PRODID:SchoolNow
CALSCALE:GREGORIAN
BEGIN:VEVENT
UID:4bb90cce-39bc-11f1-9dd1-022bfbe61cab
DTSTAMP:20260419T125007Z
SUMMARY:8th Grade Awards Ceremony
URL;VALUE=URI:https://www.lahabraschools.org/washington/calendar/8998251/8t
 h-grade-awards-ceremony
DTSTART:20260515T010000Z
DTEND:20260515T023000Z
END:VEVENT
END:VCALENDAR
