BEGIN:VCALENDAR
VERSION:2.0
PRODID:SchoolNow
CALSCALE:GREGORIAN
BEGIN:VEVENT
UID:e779b9fa-39bd-11f1-821b-0a58a9feac02
DTSTAMP:20260419T125007Z
SUMMARY:Beetlejuice Jr. Musical
URL;VALUE=URI:https://www.lahabraschools.org/washington/calendar/8998256/be
 etlejuice-jr-musical
DTSTART:20260417T010000Z
DTEND:20260417T023000Z
END:VEVENT
END:VCALENDAR
